BEGIN:VCALENDAR
VERSION:2.0
PRODID:-//Saint Lucia Aquatics Federation (SLAF) - ECPv6.13.2.1//NONSGML v1.0//EN
CALSCALE:GREGORIAN
METHOD:PUBLISH
X-ORIGINAL-URL:https://www.slaf.lc
X-WR-CALDESC:Events for Saint Lucia Aquatics Federation (SLAF)
REFRESH-INTERVAL;VALUE=DURATION:PT1H
X-Robots-Tag:noindex
X-PUBLISHED-TTL:PT1H
BEGIN:VTIMEZONE
TZID:UTC
BEGIN:STANDARD
TZOFFSETFROM:+0000
TZOFFSETTO:+0000
TZNAME:UTC
DTSTART:20160101T000000
END:STANDARD
END:VTIMEZONE
BEGIN:VEVENT
DTSTART;TZID=UTC:20170529T123000
DTEND;TZID=UTC:20170529T160000
DTSTAMP:20260423T231232
CREATED:20170417T014804Z
LAST-MODIFIED:20170525T043508Z
UID:5413-1496061000-1496073600@www.slaf.lc
SUMMARY:National Secondary Schools Swim Meet
DESCRIPTION:Please submit entries via supplied excel spreadsheet.  You can contact Meet Director for more details.  Entry deadlines May 24th\, 2017.\n2017 Secondary School Swim Meet Summons \n2017 SECONDARY SCHOOLS MEET ENTRY FORM
URL:https://www.slaf.lc/event/national-secondary-schools-swim-meet/
LOCATION:Rodney Heights Aquatic Center\, Rodney Bay\, Rodney Bay\, Saint Lucia
END:VEVENT
BEGIN:VEVENT
DTSTART;TZID=UTC:20170529T080000
DTEND;TZID=UTC:20170529T120000
DTSTAMP:20260423T231232
CREATED:20170417T014559Z
LAST-MODIFIED:20170525T043609Z
UID:5411-1496044800-1496059200@www.slaf.lc
SUMMARY:National Primary Schools Swim Meet
DESCRIPTION:Please submit entries via supplied excel spreadsheet.  You can contact Meet Director for more details.  Entry deadlines May 24th\, 2017. \n2017 Primary School Swim Meet Summons\n2017 PRIMARY SCHOOLS MEET ENTRY FORM
URL:https://www.slaf.lc/event/national-primary-schools-swim-meet/
LOCATION:Rodney Heights Aquatic Center\, Rodney Bay\, Rodney Bay\, Saint Lucia
END:VEVENT
BEGIN:VEVENT
DTSTART;TZID=UTC:20170519T080000
DTEND;TZID=UTC:20170521T170000
DTSTAMP:20260423T231232
CREATED:20170308T125729Z
LAST-MODIFIED:20170308T125729Z
UID:5382-1495180800-1495386000@www.slaf.lc
SUMMARY:BASA 26th Aquatic Centre International Invitational
DESCRIPTION:More details can be found here: \nhttps://www.swimbarbados.com/event/26th-aquatic-centre-international-invitational/
URL:https://www.slaf.lc/event/basa-26th-aquatic-centre-international-invitational/
LOCATION:Barbados\, Barbados
END:VEVENT
BEGIN:VEVENT
DTSTART;TZID=UTC:20170505T080000
DTEND;TZID=UTC:20170506T170000
DTSTAMP:20260423T231232
CREATED:20160229T170453Z
LAST-MODIFIED:20170308T125406Z
UID:4827-1493971200-1494090000@www.slaf.lc
SUMMARY:BASA Distance Long Course Open - Barbados
DESCRIPTION:Get more details here:  https://www.swimbarbados.com/event/basa-distance-long-course-open-2/ \n 
URL:https://www.slaf.lc/event/basa-invitational-barbados/
LOCATION:Barbados\, Barbados
END:VEVENT
BEGIN:VEVENT
DTSTART;TZID=UTC:20170413T080000
DTEND;TZID=UTC:20170419T170000
DTSTAMP:20260423T231232
CREATED:20160229T170522Z
LAST-MODIFIED:20170307T210404Z
UID:4826-1492070400-1492621200@www.slaf.lc
SUMMARY:CARIFTA CHAMPIONSHIPS  - Bahamas	 2 X "AA" TIMES
DESCRIPTION:
URL:https://www.slaf.lc/event/carifta-championships-bahamas-2-x-aa-times/
END:VEVENT
BEGIN:VEVENT
DTSTART;TZID=UTC:20170406T160000
DTEND;TZID=UTC:20170410T170000
DTSTAMP:20260423T231232
CREATED:20161101T212211Z
LAST-MODIFIED:20170307T220700Z
UID:5343-1491494400-1491843600@www.slaf.lc
SUMMARY:18th Annual RHAC Invitational
DESCRIPTION:
URL:https://www.slaf.lc/event/18th-annual-rhac-invitational/
LOCATION:Rodney Heights Aquatic Center\, Rodney Bay\, Rodney Bay\, Saint Lucia
END:VEVENT
BEGIN:VEVENT
DTSTART;TZID=UTC:20170319T080000
DTEND;TZID=UTC:20170319T170000
DTSTAMP:20260423T231232
CREATED:20170307T210820Z
LAST-MODIFIED:20170307T210820Z
UID:5376-1489910400-1489942800@www.slaf.lc
SUMMARY:RELAY CARNIVAL
DESCRIPTION:Lightening Aquatics Swim Club hosts a Relay Carnival!!!
URL:https://www.slaf.lc/event/relay-carnival/
LOCATION:Rodney Heights Aquatic Centre\, Rodney Heights\, Gros-Islet\, Saint Lucia
END:VEVENT
BEGIN:VEVENT
DTSTART;TZID=UTC:20170205T080000
DTEND;TZID=UTC:20170205T170000
DTSTAMP:20260423T231232
CREATED:20160229T170547Z
LAST-MODIFIED:20160229T170547Z
UID:4824-1486281600-1486314000@www.slaf.lc
SUMMARY:BASA LONG COURSE CHAMPIONSHIPS- Barbados
DESCRIPTION:
URL:https://www.slaf.lc/event/basa-long-course-championships-barbados-2/
LOCATION:Barbados\, Barbados
END:VEVENT
BEGIN:VEVENT
DTSTART;TZID=UTC:20170101T080000
DTEND;TZID=UTC:20170101T170000
DTSTAMP:20260423T231232
CREATED:20160229T170610Z
LAST-MODIFIED:20160229T170610Z
UID:4823-1483257600-1483290000@www.slaf.lc
SUMMARY:PSFA Open Water Meet- 5k\, 3k\, 1k\, sprints
DESCRIPTION:
URL:https://www.slaf.lc/event/psfa-open-water-meet-5k-3k-1k-sprints/
END:VEVENT
BEGIN:VEVENT
DTSTART;TZID=UTC:20161215T080000
DTEND;TZID=UTC:20161218T170000
DTSTAMP:20260423T231232
CREATED:20160229T170641Z
LAST-MODIFIED:20160229T170641Z
UID:4822-1481788800-1482080400@www.slaf.lc
SUMMARY:ASATT CHAMPIONSHIPS - TRINIDAD
DESCRIPTION:
URL:https://www.slaf.lc/event/asatt-championships-trinidad-2/
LOCATION:Rodney Heights Aquatic Centre\, Rodney Heights\, Gros-Islet\, Saint Lucia
END:VEVENT
BEGIN:VEVENT
DTSTART;TZID=UTC:20161202T160000
DTEND;TZID=UTC:20161204T200000
DTSTAMP:20260423T231232
CREATED:20151222T184239Z
LAST-MODIFIED:20161031T130207Z
UID:4753-1480694400-1480881600@www.slaf.lc
SUMMARY:Lucian Grand Prix
DESCRIPTION:Hosted by RACERS\, RHAC
URL:https://www.slaf.lc/event/lucian-grand-prix-4/
LOCATION:Rodney Heights Aquatic Center\, Rodney Bay\, Rodney Bay\, Saint Lucia
END:VEVENT
BEGIN:VEVENT
DTSTART;TZID=UTC:20161114T080000
DTEND;TZID=UTC:20161114T170000
DTSTAMP:20260423T231232
CREATED:20151222T183914Z
LAST-MODIFIED:20151222T183914Z
UID:4751-1479110400-1479142800@www.slaf.lc
SUMMARY:(SLASA) 1 Day Meet (Carifta Line Up)
DESCRIPTION:RHAC
URL:https://www.slaf.lc/event/slasa-1-day-meet-carifta-line-up/
END:VEVENT
BEGIN:VEVENT
DTSTART;TZID=UTC:20161110T080000
DTEND;TZID=UTC:20161113T170000
DTSTAMP:20260423T231232
CREATED:20160229T170731Z
LAST-MODIFIED:20161005T162007Z
UID:4819-1478764800-1479056400@www.slaf.lc
SUMMARY:OECS CHAMPIONSHIPS - ST. VINCENT
DESCRIPTION:This team is selected after the Short Course National Championship held in October.
URL:https://www.slaf.lc/event/oecs-championships-st-vincentselected-team/
LOCATION:Saint Vincent\, Saint Vincent And The Grenadines
END:VEVENT
BEGIN:VEVENT
DTSTART;TZID=UTC:20161106T100000
DTEND;TZID=UTC:20161106T140000
DTSTAMP:20260423T231232
CREATED:20161112T152108Z
LAST-MODIFIED:20161112T152108Z
UID:5345-1478426400-1478440800@www.slaf.lc
SUMMARY:Swim-A-Thon
DESCRIPTION:Fundraiser designed to assist the National Team representing St Lucia at the 2016 OECS Swim Championships held in St Vincent and the Grenadines.  Following the event\, Silver medalist Keri-anne Payne and her husband David Carry will speak with all those present to encourage and motivate.
URL:https://www.slaf.lc/event/swim-a-thon/
LOCATION:Rodney Heights Aquatic Centre\, Rodney Heights\, Gros-Islet\, Saint Lucia
END:VEVENT
BEGIN:VEVENT
DTSTART;TZID=UTC:20161106T080000
DTEND;TZID=UTC:20161108T170000
DTSTAMP:20260423T231232
CREATED:20151222T183623Z
LAST-MODIFIED:20151222T183705Z
UID:4750-1478419200-1478624400@www.slaf.lc
SUMMARY:OECS Open Water Champs
DESCRIPTION:OECS Championships\, Antigua
URL:https://www.slaf.lc/event/oecs-open-water-champs/
END:VEVENT
BEGIN:VEVENT
DTSTART;TZID=UTC:20161021T180000
DTEND;TZID=UTC:20161023T170000
DTSTAMP:20260423T231232
CREATED:20160229T170753Z
LAST-MODIFIED:20161031T132821Z
UID:4818-1477072800-1477242000@www.slaf.lc
SUMMARY:SHORT COURSE NATIONALS - RHAC OECS TEAM QUALIFIER
DESCRIPTION:Hosted by SeaJays Swim Club \nCapriSun National Championship Summons can be viewed using this link:\n2016 CapriSun National championship summons \nYou can view the results for the National Time Trials: \nTeam Scores\nIndividual Scores \n 
URL:https://www.slaf.lc/event/short-course-nationals-rhac-oecs-team-qualifier-2/
LOCATION:Rodney Heights Aquatic Centre\, Rodney Heights\, Gros-Islet\, Saint Lucia
END:VEVENT
BEGIN:VEVENT
DTSTART;TZID=UTC:20161009T080000
DTEND;TZID=UTC:20161009T170000
DTSTAMP:20260423T231232
CREATED:20160229T170823Z
LAST-MODIFIED:20160229T170823Z
UID:4817-1476000000-1476032400@www.slaf.lc
SUMMARY:OPEN WATER OECS TRIAL - REDUIT BEACH	OECS TEAM QUALIFIER
DESCRIPTION:
URL:https://www.slaf.lc/event/open-water-oecs-trial-reduit-beachoecs-team-qualifier/
LOCATION:Rodney Heights Aquatic Centre\, Rodney Heights\, Gros-Islet\, Saint Lucia
END:VEVENT
BEGIN:VEVENT
DTSTART;TZID=UTC:20160916T160000
DTEND;TZID=UTC:20160918T150000
DTSTAMP:20260423T231232
CREATED:20160229T170904Z
LAST-MODIFIED:20160920T151305Z
UID:4815-1474041600-1474210800@www.slaf.lc
SUMMARY:SUMMER FESTIVAL MEET - RHAC
DESCRIPTION:Final Team Scores Summer Splash 2016 \nFinal Individual Scores Summer Splash 2016 \n  \n 
URL:https://www.slaf.lc/event/summer-festival-meet-rhac/
LOCATION:Rodney Heights Aquatic Centre\, Rodney Heights\, Gros-Islet\, Saint Lucia
END:VEVENT
BEGIN:VEVENT
DTSTART;TZID=UTC:20160913T080000
DTEND;TZID=UTC:20160919T170000
DTSTAMP:20260423T231232
CREATED:20160229T170933Z
LAST-MODIFIED:20160229T170933Z
UID:4816-1473753600-1474304400@www.slaf.lc
SUMMARY:SYNCHRONIZE SWIMMING COACHES CLINIC
DESCRIPTION:
URL:https://www.slaf.lc/event/synchronize-swimming-coaches-clinic/
END:VEVENT
BEGIN:VEVENT
DTSTART;TZID=UTC:20160819T160000
DTEND;TZID=UTC:20160822T170000
DTSTAMP:20260423T231232
CREATED:20160229T171005Z
LAST-MODIFIED:20160817T151109Z
UID:4814-1471622400-1471885200@www.slaf.lc
SUMMARY:GOODWILL SWIM MEET - ST. LUCIA
DESCRIPTION:
URL:https://www.slaf.lc/event/goodwill-swim-meet-st-lucianon-carifta/
LOCATION:Rodney Heights Aquatic Centre\, Rodney Heights\, Gros-Islet\, Saint Lucia
END:VEVENT
BEGIN:VEVENT
DTSTART;TZID=UTC:20160709T130000
DTEND;TZID=UTC:20160710T170000
DTSTAMP:20260423T231232
CREATED:20160229T170415Z
LAST-MODIFIED:20160706T235934Z
UID:4828-1468069200-1468170000@www.slaf.lc
SUMMARY:KAREN BEAUBRUN MEET
DESCRIPTION:
URL:https://www.slaf.lc/event/karen-beaubrun-meet/
LOCATION:Rodney Heights Aquatic Centre\, Rodney Heights\, Gros-Islet\, Saint Lucia
END:VEVENT
BEGIN:VEVENT
DTSTART;TZID=UTC:20160627T080000
DTEND;TZID=UTC:20160703T170000
DTSTAMP:20260423T231232
CREATED:20160229T171106Z
LAST-MODIFIED:20160229T171106Z
UID:4812-1467014400-1467565200@www.slaf.lc
SUMMARY:CISC	Olympic qualifier
DESCRIPTION:
URL:https://www.slaf.lc/event/ciscolympic-qualifier/
END:VEVENT
BEGIN:VEVENT
DTSTART;VALUE=DATE:20160627
DTEND;VALUE=DATE:20160703
DTSTAMP:20260423T231232
CREATED:20160430T013747Z
LAST-MODIFIED:20160519T012230Z
UID:5108-1466985600-1467503999@www.slaf.lc
SUMMARY:CISC 2016 – Bahamas
DESCRIPTION:
URL:https://www.slaf.lc/event/cisc-2016-bahamas/
END:VEVENT
BEGIN:VEVENT
DTSTART;TZID=UTC:20160605T080000
DTEND;TZID=UTC:20160605T170000
DTSTAMP:20260423T231232
CREATED:20160229T171151Z
LAST-MODIFIED:20160229T171151Z
UID:4836-1465113600-1465146000@www.slaf.lc
SUMMARY:CCCAN Trinidad
DESCRIPTION:
URL:https://www.slaf.lc/event/cccan-trinidad/
LOCATION:Trinidad\, Trinidad And Tobago
END:VEVENT
BEGIN:VEVENT
DTSTART;TZID=UTC:20160531T190000
DTEND;TZID=UTC:20160531T210000
DTSTAMP:20260423T231232
CREATED:20160519T021447Z
LAST-MODIFIED:20160519T021939Z
UID:5172-1464721200-1464728400@www.slaf.lc
SUMMARY:SLASA AGM
DESCRIPTION:
URL:https://www.slaf.lc/event/slasa-agm/
LOCATION:Bay Gardens Inn\, Rodney Bay\, Gros-Islet\, Saint Lucia
END:VEVENT
BEGIN:VEVENT
DTSTART;TZID=UTC:20160527T080000
DTEND;TZID=UTC:20160529T170000
DTSTAMP:20260423T231232
CREATED:20160229T171225Z
LAST-MODIFIED:20160229T171225Z
UID:4811-1464336000-1464541200@www.slaf.lc
SUMMARY:BASA INVITATIONAL  - Barbados	Olympic qualifier
DESCRIPTION:
URL:https://www.slaf.lc/event/basa-invitational-barbadosolympic-qualifier/
END:VEVENT
BEGIN:VEVENT
DTSTART;TZID=UTC:20160523T090000
DTEND;TZID=UTC:20160527T150000
DTSTAMP:20260423T231232
CREATED:20160229T171416Z
LAST-MODIFIED:20160519T011653Z
UID:4809-1463994000-1464361200@www.slaf.lc
SUMMARY:Waterpolo Coaches Clinic
DESCRIPTION:
URL:https://www.slaf.lc/event/waterpolo-coaches-clinic/
LOCATION:Rodney Heights Aquatic Centre\, Rodney Heights\, Gros-Islet\, Saint Lucia
END:VEVENT
BEGIN:VEVENT
DTSTART;TZID=UTC:20160520T080000
DTEND;TZID=UTC:20160520T170000
DTSTAMP:20260423T231232
CREATED:20160520T193401Z
LAST-MODIFIED:20160522T013844Z
UID:5188-1463731200-1463763600@www.slaf.lc
SUMMARY:Secondary Schools' Swim Meet\, Friday 20th June\, 2016
DESCRIPTION:
URL:https://www.slaf.lc/event/secondary-schools-swim-meet-friday-20th-june-2006/
END:VEVENT
BEGIN:VEVENT
DTSTART;TZID=UTC:20160520T080000
DTEND;TZID=UTC:20160520T170000
DTSTAMP:20260423T231232
CREATED:20160520T193307Z
LAST-MODIFIED:20160520T193307Z
UID:5187-1463731200-1463763600@www.slaf.lc
SUMMARY:Primary Schools' Swim Meet\, Friday 20th June\, 2016
DESCRIPTION:
URL:https://www.slaf.lc/event/primary-schools-swim-meet-friday-20th-june-2016/
END:VEVENT
BEGIN:VEVENT
DTSTART;TZID=UTC:20160520T080000
DTEND;TZID=UTC:20160520T170000
DTSTAMP:20260423T231232
CREATED:20160229T171253Z
LAST-MODIFIED:20160229T171253Z
UID:4810-1463731200-1463763600@www.slaf.lc
SUMMARY:PRIMARY & SECONDARY SCHOOLS SWIM MEETS
DESCRIPTION:
URL:https://www.slaf.lc/event/primary-secondary-schools-swim-meets/
LOCATION:Rodney Heights Aquatic Centre\, Rodney Heights\, Gros-Islet\, Saint Lucia
END:VEVENT
END:VCALENDAR