BEGIN:VCALENDAR
VERSION:2.0
PRODID:-//Saint Lucia Aquatics Federation (SLAF) - ECPv6.13.2.1//NONSGML v1.0//EN
CALSCALE:GREGORIAN
METHOD:PUBLISH
X-ORIGINAL-URL:https://www.slaf.lc
X-WR-CALDESC:Events for Saint Lucia Aquatics Federation (SLAF)
REFRESH-INTERVAL;VALUE=DURATION:PT1H
X-Robots-Tag:noindex
X-PUBLISHED-TTL:PT1H
BEGIN:VTIMEZONE
TZID:UTC
BEGIN:STANDARD
TZOFFSETFROM:+0000
TZOFFSETTO:+0000
TZNAME:UTC
DTSTART:20160101T000000
END:STANDARD
END:VTIMEZONE
BEGIN:VEVENT
DTSTART;TZID=UTC:20181108T080000
DTEND;TZID=UTC:20181110T170000
DTSTAMP:20260423T194925
CREATED:20181120T042140Z
LAST-MODIFIED:20181120T042140Z
UID:6475-1541664000-1541869200@www.slaf.lc
SUMMARY:OECS Swim Championship 2018 in Antigua
DESCRIPTION:
URL:https://www.slaf.lc/event/oecs-swim-championship-2018-in-antigua/
END:VEVENT
BEGIN:VEVENT
DTSTART;TZID=UTC:20181104T120000
DTEND;TZID=UTC:20181104T170000
DTSTAMP:20260423T194925
CREATED:20181120T042737Z
LAST-MODIFIED:20181120T042737Z
UID:6481-1541332800-1541350800@www.slaf.lc
SUMMARY:SLASA Fund Raising BBQ
DESCRIPTION:
URL:https://www.slaf.lc/event/slasa-fund-raising-bbq/
END:VEVENT
BEGIN:VEVENT
DTSTART;TZID=UTC:20181021T080000
DTEND;TZID=UTC:20181021T170000
DTSTAMP:20260423T194925
CREATED:20181120T043335Z
LAST-MODIFIED:20181120T043335Z
UID:6487-1540108800-1540141200@www.slaf.lc
SUMMARY:RHAC Developmental Meet
DESCRIPTION:
URL:https://www.slaf.lc/event/rhac-developmental-meet/
END:VEVENT
BEGIN:VEVENT
DTSTART;TZID=UTC:20181020T100000
DTEND;TZID=UTC:20181020T120000
DTSTAMP:20260423T194925
CREATED:20181120T043047Z
LAST-MODIFIED:20181120T043047Z
UID:6483-1540029600-1540036800@www.slaf.lc
SUMMARY:MOU Signing between SLASA and Longvilliers Club
DESCRIPTION:
URL:https://www.slaf.lc/event/mou-signing-between-slasa-and-longvilliers-club/
END:VEVENT
BEGIN:VEVENT
DTSTART;TZID=UTC:20181013T120000
DTEND;TZID=UTC:20181013T170000
DTSTAMP:20260423T194925
CREATED:20181120T044030Z
LAST-MODIFIED:20181120T044030Z
UID:6493-1539432000-1539450000@www.slaf.lc
SUMMARY:Lightning Grand BBQ
DESCRIPTION:
URL:https://www.slaf.lc/event/lightning-grand-bbq/
END:VEVENT
BEGIN:VEVENT
DTSTART;TZID=UTC:20181013T080000
DTEND;TZID=UTC:20181013T170000
DTSTAMP:20260423T194925
CREATED:20181120T043237Z
LAST-MODIFIED:20181120T043237Z
UID:6485-1539417600-1539450000@www.slaf.lc
SUMMARY:Inter Commercial House Swimming Championship
DESCRIPTION:
URL:https://www.slaf.lc/event/inter-commercial-house-swimming-championship/
END:VEVENT
BEGIN:VEVENT
DTSTART;TZID=UTC:20181006T080000
DTEND;TZID=UTC:20181007T170000
DTSTAMP:20260423T194925
CREATED:20181120T043849Z
LAST-MODIFIED:20181120T043849Z
UID:6491-1538812800-1538931600@www.slaf.lc
SUMMARY:OECS Swim Trial hosted by Seajays Swim Club
DESCRIPTION:
URL:https://www.slaf.lc/event/oecs-swim-trial-hosted-by-seajays-swim-club/
LOCATION:Rodney Heights Aquatic Center\, Rodney Bay\, Rodney Bay\, Saint Lucia
END:VEVENT
BEGIN:VEVENT
DTSTART;TZID=UTC:20180920T080000
DTEND;TZID=UTC:20180920T170000
DTSTAMP:20260423T194925
CREATED:20181120T044237Z
LAST-MODIFIED:20181120T044237Z
UID:6495-1537430400-1537462800@www.slaf.lc
SUMMARY:SLASA AGM
DESCRIPTION:
URL:https://www.slaf.lc/event/slasa-agm-2/
END:VEVENT
BEGIN:VEVENT
DTSTART;TZID=UTC:20180820T080000
DTEND;TZID=UTC:20180826T170000
DTSTAMP:20260423T194925
CREATED:20181120T044651Z
LAST-MODIFIED:20181120T044651Z
UID:6498-1534752000-1535302800@www.slaf.lc
SUMMARY:Fina Level 1 Program
DESCRIPTION:
URL:https://www.slaf.lc/event/fina-level-1-program/
LOCATION:Olypmic House
END:VEVENT
BEGIN:VEVENT
DTSTART;TZID=UTC:20180817T080000
DTEND;TZID=UTC:20180819T170000
DTSTAMP:20260423T194925
CREATED:20181120T044821Z
LAST-MODIFIED:20181120T044821Z
UID:6501-1534492800-1534698000@www.slaf.lc
SUMMARY:Goodwill Swim Meet
DESCRIPTION:
URL:https://www.slaf.lc/event/goodwill-swim-meet/
LOCATION:Barbados\, Barbados
END:VEVENT
BEGIN:VEVENT
DTSTART;TZID=UTC:20180626T080000
DTEND;TZID=UTC:20180706T170000
DTSTAMP:20260423T194925
CREATED:20180424T021647Z
LAST-MODIFIED:20180424T021647Z
UID:6231-1530000000-1530896400@www.slaf.lc
SUMMARY:CCCAN
DESCRIPTION:
URL:https://www.slaf.lc/event/cccan/
END:VEVENT
BEGIN:VEVENT
DTSTART;TZID=UTC:20180525T080000
DTEND;TZID=UTC:20180527T170000
DTSTAMP:20260423T194925
CREATED:20180424T022210Z
LAST-MODIFIED:20180424T022210Z
UID:6233-1527235200-1527440400@www.slaf.lc
SUMMARY:BASA Invitational
DESCRIPTION:
URL:https://www.slaf.lc/event/basa-invitational/
END:VEVENT
BEGIN:VEVENT
DTSTART;TZID=UTC:20180426T113000
DTEND;TZID=UTC:20180426T170000
DTSTAMP:20260423T194925
CREATED:20180424T020855Z
LAST-MODIFIED:20180424T020855Z
UID:6229-1524742200-1524762000@www.slaf.lc
SUMMARY:LA Relay Carnival
DESCRIPTION:
URL:https://www.slaf.lc/event/la-relay-carnival/
LOCATION:Rodney Heights Aquatic Center\, Rodney Bay\, Rodney Bay\, Saint Lucia
END:VEVENT
BEGIN:VEVENT
DTSTART;TZID=UTC:20171214T080000
DTEND;TZID=UTC:20171217T170000
DTSTAMP:20260423T194925
CREATED:20160229T165933Z
LAST-MODIFIED:20170925T182244Z
UID:4834-1513238400-1513530000@www.slaf.lc
SUMMARY:ASATT CHAMPIONSHIPS - TRINIDAD
DESCRIPTION:
URL:https://www.slaf.lc/event/asatt-championships-trinidad/
LOCATION:Trinidad\, Trinidad And Tobago
END:VEVENT
BEGIN:VEVENT
DTSTART;TZID=UTC:20171110T080000
DTEND;TZID=UTC:20171112T170000
DTSTAMP:20260423T194925
CREATED:20160229T170325Z
LAST-MODIFIED:20170925T182031Z
UID:4832-1510300800-1510506000@www.slaf.lc
SUMMARY:OECS CHAMPIONSHIPS- 	SELECTED TEAM
DESCRIPTION:
URL:https://www.slaf.lc/event/oecs-championships-selected-team/
END:VEVENT
BEGIN:VEVENT
DTSTART;TZID=UTC:20171006T080000
DTEND;TZID=UTC:20171008T170000
DTSTAMP:20260423T194925
CREATED:20160229T170212Z
LAST-MODIFIED:20170925T180417Z
UID:4831-1507276800-1507482000@www.slaf.lc
SUMMARY:SHORT COURSE NATIONALS - RHAC	 OECS TEAM QUALIFIER
DESCRIPTION:
URL:https://www.slaf.lc/event/short-course-nationals-rhac-oecs-team-qualifier/
LOCATION:Rodney Heights Aquatic Centre\, Rodney Heights\, Gros-Islet\, Saint Lucia
END:VEVENT
BEGIN:VEVENT
DTSTART;TZID=UTC:20170818T080000
DTEND;TZID=UTC:20170820T170000
DTSTAMP:20260423T194925
CREATED:20160229T170352Z
LAST-MODIFIED:20170525T043209Z
UID:4829-1503043200-1503248400@www.slaf.lc
SUMMARY:GOODWILL SWIM MEET   - GUYANA
DESCRIPTION:XXIII Goodwill Swim Meet Summons  \n 
URL:https://www.slaf.lc/event/goodwill-swim-meet-guyana/
LOCATION:Guyana\, Guyana
END:VEVENT
BEGIN:VEVENT
DTSTART;TZID=UTC:20170714T080000
DTEND;TZID=UTC:20170730T170000
DTSTAMP:20260423T194925
CREATED:20170308T130742Z
LAST-MODIFIED:20170308T130742Z
UID:5387-1500019200-1501434000@www.slaf.lc
SUMMARY:17th FINA World Championships
DESCRIPTION:Read more details here: \nhttp://www.fina.org/event/17th-fina-world-championships/details
URL:https://www.slaf.lc/event/17th-fina-world-championships/
LOCATION:Budapest
END:VEVENT
BEGIN:VEVENT
DTSTART;TZID=UTC:20170628T080000
DTEND;TZID=UTC:20170703T170000
DTSTAMP:20260423T194925
CREATED:20160229T170433Z
LAST-MODIFIED:20170525T043330Z
UID:4837-1498636800-1499101200@www.slaf.lc
SUMMARY:XXII Central America & Caribbean Championships ---CCCAN Trinidad	"AAA" TIMES
DESCRIPTION:Dates of Competition:\nSwimming: June 28 – Jul 2  Summons \nOpen Water: June 24 & June 26 (Familiarization: June 23) \nWater Polo: June 22 – 28 \nSynchro: June 29 – July 2 \nDiving: June 29 – July 2nd
URL:https://www.slaf.lc/event/cccan-trinidadaaa-times/
LOCATION:Trinidad\, Trinidad And Tobago
END:VEVENT
BEGIN:VEVENT
DTSTART;TZID=UTC:20170617T080000
DTEND;TZID=UTC:20170617T170000
DTSTAMP:20260423T194925
CREATED:20170417T014248Z
LAST-MODIFIED:20170417T014248Z
UID:5408-1497686400-1497718800@www.slaf.lc
SUMMARY:TOGS-Sharks I'M Strong Swim Meet
DESCRIPTION:Please contact a member of Sharks Swim Club for more details.
URL:https://www.slaf.lc/event/togs-sharks-im-strong-swim-meet/
LOCATION:Rodney Heights Aquatic Center\, Rodney Bay\, Rodney Bay\, Saint Lucia
END:VEVENT
BEGIN:VEVENT
DTSTART;TZID=UTC:20170529T123000
DTEND;TZID=UTC:20170529T160000
DTSTAMP:20260423T194925
CREATED:20170417T014804Z
LAST-MODIFIED:20170525T043508Z
UID:5413-1496061000-1496073600@www.slaf.lc
SUMMARY:National Secondary Schools Swim Meet
DESCRIPTION:Please submit entries via supplied excel spreadsheet.  You can contact Meet Director for more details.  Entry deadlines May 24th\, 2017.\n2017 Secondary School Swim Meet Summons \n2017 SECONDARY SCHOOLS MEET ENTRY FORM
URL:https://www.slaf.lc/event/national-secondary-schools-swim-meet/
LOCATION:Rodney Heights Aquatic Center\, Rodney Bay\, Rodney Bay\, Saint Lucia
END:VEVENT
BEGIN:VEVENT
DTSTART;TZID=UTC:20170529T080000
DTEND;TZID=UTC:20170529T120000
DTSTAMP:20260423T194925
CREATED:20170417T014559Z
LAST-MODIFIED:20170525T043609Z
UID:5411-1496044800-1496059200@www.slaf.lc
SUMMARY:National Primary Schools Swim Meet
DESCRIPTION:Please submit entries via supplied excel spreadsheet.  You can contact Meet Director for more details.  Entry deadlines May 24th\, 2017. \n2017 Primary School Swim Meet Summons\n2017 PRIMARY SCHOOLS MEET ENTRY FORM
URL:https://www.slaf.lc/event/national-primary-schools-swim-meet/
LOCATION:Rodney Heights Aquatic Center\, Rodney Bay\, Rodney Bay\, Saint Lucia
END:VEVENT
BEGIN:VEVENT
DTSTART;TZID=UTC:20170519T080000
DTEND;TZID=UTC:20170521T170000
DTSTAMP:20260423T194925
CREATED:20170308T125729Z
LAST-MODIFIED:20170308T125729Z
UID:5382-1495180800-1495386000@www.slaf.lc
SUMMARY:BASA 26th Aquatic Centre International Invitational
DESCRIPTION:More details can be found here: \nhttps://www.swimbarbados.com/event/26th-aquatic-centre-international-invitational/
URL:https://www.slaf.lc/event/basa-26th-aquatic-centre-international-invitational/
LOCATION:Barbados\, Barbados
END:VEVENT
BEGIN:VEVENT
DTSTART;TZID=UTC:20170505T080000
DTEND;TZID=UTC:20170506T170000
DTSTAMP:20260423T194925
CREATED:20160229T170453Z
LAST-MODIFIED:20170308T125406Z
UID:4827-1493971200-1494090000@www.slaf.lc
SUMMARY:BASA Distance Long Course Open - Barbados
DESCRIPTION:Get more details here:  https://www.swimbarbados.com/event/basa-distance-long-course-open-2/ \n 
URL:https://www.slaf.lc/event/basa-invitational-barbados/
LOCATION:Barbados\, Barbados
END:VEVENT
BEGIN:VEVENT
DTSTART;TZID=UTC:20170413T080000
DTEND;TZID=UTC:20170419T170000
DTSTAMP:20260423T194925
CREATED:20160229T170522Z
LAST-MODIFIED:20170307T210404Z
UID:4826-1492070400-1492621200@www.slaf.lc
SUMMARY:CARIFTA CHAMPIONSHIPS  - Bahamas	 2 X "AA" TIMES
DESCRIPTION:
URL:https://www.slaf.lc/event/carifta-championships-bahamas-2-x-aa-times/
END:VEVENT
BEGIN:VEVENT
DTSTART;TZID=UTC:20170406T160000
DTEND;TZID=UTC:20170410T170000
DTSTAMP:20260423T194925
CREATED:20161101T212211Z
LAST-MODIFIED:20170307T220700Z
UID:5343-1491494400-1491843600@www.slaf.lc
SUMMARY:18th Annual RHAC Invitational
DESCRIPTION:
URL:https://www.slaf.lc/event/18th-annual-rhac-invitational/
LOCATION:Rodney Heights Aquatic Center\, Rodney Bay\, Rodney Bay\, Saint Lucia
END:VEVENT
BEGIN:VEVENT
DTSTART;TZID=UTC:20170319T080000
DTEND;TZID=UTC:20170319T170000
DTSTAMP:20260423T194925
CREATED:20170307T210820Z
LAST-MODIFIED:20170307T210820Z
UID:5376-1489910400-1489942800@www.slaf.lc
SUMMARY:RELAY CARNIVAL
DESCRIPTION:Lightening Aquatics Swim Club hosts a Relay Carnival!!!
URL:https://www.slaf.lc/event/relay-carnival/
LOCATION:Rodney Heights Aquatic Centre\, Rodney Heights\, Gros-Islet\, Saint Lucia
END:VEVENT
BEGIN:VEVENT
DTSTART;TZID=UTC:20170205T080000
DTEND;TZID=UTC:20170205T170000
DTSTAMP:20260423T194925
CREATED:20160229T170547Z
LAST-MODIFIED:20160229T170547Z
UID:4824-1486281600-1486314000@www.slaf.lc
SUMMARY:BASA LONG COURSE CHAMPIONSHIPS- Barbados
DESCRIPTION:
URL:https://www.slaf.lc/event/basa-long-course-championships-barbados-2/
LOCATION:Barbados\, Barbados
END:VEVENT
BEGIN:VEVENT
DTSTART;TZID=UTC:20170101T080000
DTEND;TZID=UTC:20170101T170000
DTSTAMP:20260423T194925
CREATED:20160229T170610Z
LAST-MODIFIED:20160229T170610Z
UID:4823-1483257600-1483290000@www.slaf.lc
SUMMARY:PSFA Open Water Meet- 5k\, 3k\, 1k\, sprints
DESCRIPTION:
URL:https://www.slaf.lc/event/psfa-open-water-meet-5k-3k-1k-sprints/
END:VEVENT
BEGIN:VEVENT
DTSTART;TZID=UTC:20161215T080000
DTEND;TZID=UTC:20161218T170000
DTSTAMP:20260423T194925
CREATED:20160229T170641Z
LAST-MODIFIED:20160229T170641Z
UID:4822-1481788800-1482080400@www.slaf.lc
SUMMARY:ASATT CHAMPIONSHIPS - TRINIDAD
DESCRIPTION:
URL:https://www.slaf.lc/event/asatt-championships-trinidad-2/
LOCATION:Rodney Heights Aquatic Centre\, Rodney Heights\, Gros-Islet\, Saint Lucia
END:VEVENT
END:VCALENDAR