BEGIN:VCALENDAR
VERSION:2.0
PRODID:-//Saint Lucia Aquatics Federation (SLAF) - ECPv6.13.2.1//NONSGML v1.0//EN
CALSCALE:GREGORIAN
METHOD:PUBLISH
X-ORIGINAL-URL:https://www.slaf.lc
X-WR-CALDESC:Events for Saint Lucia Aquatics Federation (SLAF)
REFRESH-INTERVAL;VALUE=DURATION:PT1H
X-Robots-Tag:noindex
X-PUBLISHED-TTL:PT1H
BEGIN:VTIMEZONE
TZID:UTC
BEGIN:STANDARD
TZOFFSETFROM:+0000
TZOFFSETTO:+0000
TZNAME:UTC
DTSTART:20150101T000000
END:STANDARD
END:VTIMEZONE
BEGIN:VEVENT
DTSTART;TZID=UTC:20160127T080000
DTEND;TZID=UTC:20160130T170000
DTSTAMP:20260424T091944
CREATED:20160229T172710Z
LAST-MODIFIED:20160229T172710Z
UID:4796-1453881600-1454173200@www.slaf.lc
SUMMARY:LTAD SEMINAR - GATINEAU QUEBEC CANADA
DESCRIPTION:
URL:https://www.slaf.lc/event/ltad-seminar-gatineau-quebec-canada/
END:VEVENT
BEGIN:VEVENT
DTSTART;TZID=UTC:20160111T110000
DTEND;TZID=UTC:20160111T170000
DTSTAMP:20260424T091944
CREATED:20160229T172807Z
LAST-MODIFIED:20160229T172807Z
UID:4793-1452510000-1452531600@www.slaf.lc
SUMMARY:Training Day Swim Meet RHAC
DESCRIPTION:
URL:https://www.slaf.lc/event/training-day-swim-meet-rhac/
LOCATION:Rodney Heights Aquatic Centre\, Rodney Heights\, Gros-Islet\, Saint Lucia
END:VEVENT
BEGIN:VEVENT
DTSTART;TZID=UTC:20151206T080000
DTEND;TZID=UTC:20151206T170000
DTSTAMP:20260424T091944
CREATED:20160229T172903Z
LAST-MODIFIED:20160229T172903Z
UID:4839-1449388800-1449421200@www.slaf.lc
SUMMARY:ASATT CHAMPIONSHIPS - TRINIDAD
DESCRIPTION:
URL:https://www.slaf.lc/event/asatt-championships-trinidad-3/
LOCATION:Trinidad\, Trinidad And Tobago
END:VEVENT
BEGIN:VEVENT
DTSTART;TZID=UTC:20151206T080000
DTEND;TZID=UTC:20151206T170000
DTSTAMP:20260424T091944
CREATED:20160226T232228Z
LAST-MODIFIED:20160226T232228Z
UID:4838-1449388800-1449421200@www.slaf.lc
SUMMARY:Lucian Grand Prix
DESCRIPTION:
URL:https://www.slaf.lc/event/lucian-grand-prix/
LOCATION:Rodney Heights Aquatic Centre\, Rodney Heights\, Gros-Islet\, Saint Lucia
END:VEVENT
END:VCALENDAR