BEGIN:VCALENDAR
VERSION:2.0
PRODID:-//Saint Lucia Aquatics Federation (SLAF) - ECPv6.13.2.1//NONSGML v1.0//EN
CALSCALE:GREGORIAN
METHOD:PUBLISH
X-ORIGINAL-URL:https://www.slaf.lc
X-WR-CALDESC:Events for Saint Lucia Aquatics Federation (SLAF)
REFRESH-INTERVAL;VALUE=DURATION:PT1H
X-Robots-Tag:noindex
X-PUBLISHED-TTL:PT1H
BEGIN:VTIMEZONE
TZID:UTC
BEGIN:STANDARD
TZOFFSETFROM:+0000
TZOFFSETTO:+0000
TZNAME:UTC
DTSTART:20180101T000000
END:STANDARD
END:VTIMEZONE
BEGIN:VEVENT
DTSTART;TZID=UTC:20190820T080000
DTEND;TZID=UTC:20190825T170000
DTSTAMP:20260423T142638
CREATED:20190213T024843Z
LAST-MODIFIED:20190213T024937Z
UID:6651-1566288000-1566752400@www.slaf.lc
SUMMARY:7th World Junior Swimming Championships in Budapest
DESCRIPTION:
URL:https://www.slaf.lc/event/7th-world-junior-swimming-championships-in-budapest/
LOCATION:Budapest
END:VEVENT
BEGIN:VEVENT
DTSTART;TZID=UTC:20190806T080000
DTEND;TZID=UTC:20190810T170000
DTSTAMP:20260423T142638
CREATED:20190213T024324Z
LAST-MODIFIED:20190213T024324Z
UID:6647-1565078400-1565456400@www.slaf.lc
SUMMARY:XVIII PAN AM Games in Peru
DESCRIPTION:
URL:https://www.slaf.lc/event/xviii-pan-am-games-in-peru/
END:VEVENT
BEGIN:VEVENT
DTSTART;TZID=UTC:20190801T080000
DTEND;TZID=UTC:20190802T170000
DTSTAMP:20260423T142638
CREATED:20190213T024126Z
LAST-MODIFIED:20190213T024126Z
UID:6645-1564646400-1564765200@www.slaf.lc
SUMMARY:SLASA Annual Outreach Swim Camps – North & South
DESCRIPTION:
URL:https://www.slaf.lc/event/slasa-annual-outreach-swim-camps-north-south/
LOCATION:Rodney Heights Aquatic Center\, Rodney Bay\, Rodney Bay\, Saint Lucia
END:VEVENT
BEGIN:VEVENT
DTSTART;VALUE=DATE:20190801
DTEND;VALUE=DATE:20190803
DTSTAMP:20260423T142638
CREATED:20190227T235431Z
LAST-MODIFIED:20190227T235431Z
UID:6682-1564617600-1564790399@www.slaf.lc
SUMMARY:SLASA Annual Outreach Swim Camps – North & South
DESCRIPTION:
URL:https://www.slaf.lc/event/slasa-annual-outreach-swim-camps-north-south-2/
LOCATION:St. Lucia
END:VEVENT
BEGIN:VEVENT
DTSTART;TZID=UTC:20190712T080000
DTEND;TZID=UTC:20190728T170000
DTSTAMP:20260423T142638
CREATED:20190213T013743Z
LAST-MODIFIED:20190213T024640Z
UID:6617-1562918400-1564333200@www.slaf.lc
SUMMARY:18th Fina World Championship in South Korea
DESCRIPTION:
URL:https://www.slaf.lc/event/18th-fina-world-championship-in-south-korea/
LOCATION:South Korea\, Korea\, Republic of
END:VEVENT
BEGIN:VEVENT
DTSTART;TZID=UTC:20190703T080000
DTEND;TZID=UTC:20190707T170000
DTSTAMP:20260423T142638
CREATED:20190213T013127Z
LAST-MODIFIED:20190213T022931Z
UID:6612-1562140800-1562518800@www.slaf.lc
SUMMARY:CCCAN in Barbados 2 AAA
DESCRIPTION:
URL:https://www.slaf.lc/event/cccan-in-barbados-2-aaa/
LOCATION:Barbados\, Barbados
END:VEVENT
BEGIN:VEVENT
DTSTART;TZID=UTC:20190628T080000
DTEND;TZID=UTC:20190630T170000
DTSTAMP:20260423T142638
CREATED:20190213T022451Z
LAST-MODIFIED:20190213T022451Z
UID:6641-1561708800-1561914000@www.slaf.lc
SUMMARY:Championnats de Martinique
DESCRIPTION:
URL:https://www.slaf.lc/event/championnats-de-martinique-2/
LOCATION:Martinique
END:VEVENT
BEGIN:VEVENT
DTSTART;TZID=UTC:20190628T080000
DTEND;TZID=UTC:20190628T170000
DTSTAMP:20260423T142638
CREATED:20190213T022300Z
LAST-MODIFIED:20190213T022300Z
UID:6639-1561708800-1561741200@www.slaf.lc
SUMMARY:Primary & Secondary Inter Schools Swimming Championships
DESCRIPTION:
URL:https://www.slaf.lc/event/primary-secondary-inter-schools-swimming-championships/
LOCATION:Rodney Heights Aquatic Center\, Rodney Bay\, Rodney Bay\, Saint Lucia
END:VEVENT
BEGIN:VEVENT
DTSTART;TZID=UTC:20190625T080000
DTEND;TZID=UTC:20190630T170000
DTSTAMP:20260423T142638
CREATED:20190213T022657Z
LAST-MODIFIED:20190213T023314Z
UID:6643-1561449600-1561914000@www.slaf.lc
SUMMARY:CCCAN National Team Training Camp
DESCRIPTION:
URL:https://www.slaf.lc/event/cccan-national-team-training-camp/
LOCATION:Martinique
END:VEVENT
BEGIN:VEVENT
DTSTART;TZID=UTC:20190615T080000
DTEND;TZID=UTC:20190616T170000
DTSTAMP:20260423T142638
CREATED:20190213T022121Z
LAST-MODIFIED:20190213T022121Z
UID:6637-1560585600-1560704400@www.slaf.lc
SUMMARY:Championnats de Martinique
DESCRIPTION:
URL:https://www.slaf.lc/event/championnats-de-martinique/
LOCATION:Martinique
END:VEVENT
BEGIN:VEVENT
DTSTART;TZID=UTC:20190519T080000
DTEND;TZID=UTC:20190519T170000
DTSTAMP:20260423T142638
CREATED:20190213T024446Z
LAST-MODIFIED:20190213T024446Z
UID:6649-1558252800-1558285200@www.slaf.lc
SUMMARY:SLASA Open Water Swim Carnival
DESCRIPTION:
URL:https://www.slaf.lc/event/slasa-open-water-swim-carnival/
END:VEVENT
BEGIN:VEVENT
DTSTART;TZID=UTC:20190425T080000
DTEND;TZID=UTC:20190425T170000
DTSTAMP:20260423T142638
CREATED:20190213T012849Z
LAST-MODIFIED:20190213T021858Z
UID:6610-1556179200-1556211600@www.slaf.lc
SUMMARY:Carifta OW in Barbados
DESCRIPTION:
URL:https://www.slaf.lc/event/carifta-ow-in-barbados/
LOCATION:Barbados\, Barbados
END:VEVENT
BEGIN:VEVENT
DTSTART;TZID=UTC:20190420T080000
DTEND;TZID=UTC:20190424T170000
DTSTAMP:20260423T142638
CREATED:20190213T012639Z
LAST-MODIFIED:20190213T021403Z
UID:6607-1555747200-1556125200@www.slaf.lc
SUMMARY:Carifta 2019 in Barbados 3 AA
DESCRIPTION:
URL:https://www.slaf.lc/event/carifta-2019-2/
LOCATION:Barbados\, Barbados
END:VEVENT
BEGIN:VEVENT
DTSTART;TZID=UTC:20190411T080000
DTEND;TZID=UTC:20190415T170000
DTSTAMP:20260423T142638
CREATED:20190213T021206Z
LAST-MODIFIED:20190213T021206Z
UID:6635-1554969600-1555347600@www.slaf.lc
SUMMARY:20th RHAC Invitational Championships
DESCRIPTION:
URL:https://www.slaf.lc/event/20th-rhac-invitational-championships/
END:VEVENT
BEGIN:VEVENT
DTSTART;TZID=UTC:20190405T080000
DTEND;TZID=UTC:20190407T170000
DTSTAMP:20260423T142638
CREATED:20190213T020618Z
LAST-MODIFIED:20190213T020618Z
UID:6632-1554451200-1554656400@www.slaf.lc
SUMMARY:MIAGE St. Lucia
DESCRIPTION:
URL:https://www.slaf.lc/event/miage-st-lucia/
LOCATION:Rodney Heights Aquatic Center\, Rodney Bay\, Rodney Bay\, Saint Lucia
END:VEVENT
BEGIN:VEVENT
DTSTART;TZID=UTC:20190323T080000
DTEND;TZID=UTC:20190323T170000
DTSTAMP:20260423T142638
CREATED:20190213T020421Z
LAST-MODIFIED:20190213T020421Z
UID:6630-1553328000-1553360400@www.slaf.lc
SUMMARY:Lightening Aquatics Relay Carnival
DESCRIPTION:
URL:https://www.slaf.lc/event/lightening-aquatics-relay-carnival/
LOCATION:Rodney Heights Aquatic Center\, Rodney Bay\, Rodney Bay\, Saint Lucia
END:VEVENT
BEGIN:VEVENT
DTSTART;VALUE=DATE:20190316
DTEND;VALUE=DATE:20190318
DTSTAMP:20260423T142638
CREATED:20190227T223256Z
LAST-MODIFIED:20190227T223256Z
UID:6680-1552694400-1552867199@www.slaf.lc
SUMMARY:Carifta Last Chance Meet in Martinique
DESCRIPTION:
URL:https://www.slaf.lc/event/carifta-last-chance-meet-in-martinique/
LOCATION:Martinique
END:VEVENT
BEGIN:VEVENT
DTSTART;TZID=UTC:20190305T080000
DTEND;TZID=UTC:20190310T170000
DTSTAMP:20260423T142638
CREATED:20190213T012246Z
LAST-MODIFIED:20190213T020159Z
UID:6604-1551772800-1552237200@www.slaf.lc
SUMMARY:Basa LC Nationals
DESCRIPTION:
URL:https://www.slaf.lc/event/basa-lc-nationals/
LOCATION:Barbados\, Barbados
END:VEVENT
BEGIN:VEVENT
DTSTART;VALUE=DATE:20190303
DTEND;VALUE=DATE:20190304
DTSTAMP:20260423T142638
CREATED:20190213T011628Z
LAST-MODIFIED:20190213T011628Z
UID:6602-1551571200-1551657599@www.slaf.lc
SUMMARY:SLASA Independence Meet
DESCRIPTION:
URL:https://www.slaf.lc/event/slasa-independence-meet/
LOCATION:Rodney Heights Aquatic Center\, Rodney Bay\, Rodney Bay\, Saint Lucia
END:VEVENT
BEGIN:VEVENT
DTSTART;TZID=UTC:20190222T080000
DTEND;TZID=UTC:20190224T170000
DTSTAMP:20260423T142638
CREATED:20190213T015716Z
LAST-MODIFIED:20190213T015716Z
UID:6625-1550822400-1551027600@www.slaf.lc
SUMMARY:Meeting du Crédit Mutuel in Martinique
DESCRIPTION:
URL:https://www.slaf.lc/event/meeting-du-credit-mutuel-in-martinique/
END:VEVENT
BEGIN:VEVENT
DTSTART;TZID=UTC:20190215T080000
DTEND;TZID=UTC:20190217T170000
DTSTAMP:20260423T142638
CREATED:20181121T204106Z
LAST-MODIFIED:20190213T011214Z
UID:6504-1550217600-1550422800@www.slaf.lc
SUMMARY:CGM Invitational Swimming Championship 2019 in St. Vincent
DESCRIPTION:
URL:https://www.slaf.lc/event/cgm-invitational-swimming-championship-2019/
LOCATION:Saint Vincent\, Saint Vincent And The Grenadines
END:VEVENT
BEGIN:VEVENT
DTSTART;TZID=UTC:20190210T150000
DTEND;TZID=UTC:20190210T180000
DTSTAMP:20260423T142638
CREATED:20190213T011512Z
LAST-MODIFIED:20190213T011512Z
UID:6600-1549810800-1549821600@www.slaf.lc
SUMMARY:SLASA Awards
DESCRIPTION:
URL:https://www.slaf.lc/event/slasa-awards/
END:VEVENT
BEGIN:VEVENT
DTSTART;TZID=UTC:20190209T080000
DTEND;TZID=UTC:20190209T170000
DTSTAMP:20260423T142638
CREATED:20190213T015541Z
LAST-MODIFIED:20190213T015541Z
UID:6623-1549699200-1549731600@www.slaf.lc
SUMMARY:Leon Hess Secondary School Inter House Swim Meet
DESCRIPTION:
URL:https://www.slaf.lc/event/leon-hess-secondary-school-inter-house-swim-meet/
LOCATION:Rodney Heights Aquatic Center\, Rodney Bay\, Rodney Bay\, Saint Lucia
END:VEVENT
BEGIN:VEVENT
DTSTART;TZID=UTC:20190203T080000
DTEND;TZID=UTC:20190203T170000
DTSTAMP:20260423T142638
CREATED:20190213T015418Z
LAST-MODIFIED:20190213T015418Z
UID:6621-1549180800-1549213200@www.slaf.lc
SUMMARY:Sharks Developmental Swim Meet
DESCRIPTION:
URL:https://www.slaf.lc/event/sharks-developmental-swim-meet/
END:VEVENT
BEGIN:VEVENT
DTSTART;TZID=UTC:20190112T080000
DTEND;TZID=UTC:20190113T170000
DTSTAMP:20260423T142638
CREATED:20181120T041444Z
LAST-MODIFIED:20181120T041814Z
UID:6472-1547280000-1547398800@www.slaf.lc
SUMMARY:Meeting Claude Sufrin Sprint in Martinique
DESCRIPTION:
URL:https://www.slaf.lc/event/carifta-2019/
LOCATION:Barbados\, Barbados
END:VEVENT
BEGIN:VEVENT
DTSTART;TZID=UTC:20181213T080000
DTEND;TZID=UTC:20181216T170000
DTSTAMP:20260423T142638
CREATED:20181120T035608Z
LAST-MODIFIED:20181120T035608Z
UID:6470-1544688000-1544979600@www.slaf.lc
SUMMARY:ASATT Annual Swim Championship
DESCRIPTION:
URL:https://www.slaf.lc/event/asatt-annual-swim-championship/
END:VEVENT
BEGIN:VEVENT
DTSTART;TZID=UTC:20181209T120000
DTEND;TZID=UTC:20181209T170000
DTSTAMP:20260423T142638
CREATED:20181120T043432Z
LAST-MODIFIED:20181120T043432Z
UID:6489-1544356800-1544374800@www.slaf.lc
SUMMARY:RHAC Developmental Meet
DESCRIPTION:
URL:https://www.slaf.lc/event/rhac-developmental-meet-2/
END:VEVENT
BEGIN:VEVENT
DTSTART;TZID=UTC:20181202T080000
DTEND;TZID=UTC:20181202T170000
DTSTAMP:20260423T142638
CREATED:20181120T042333Z
LAST-MODIFIED:20181120T042333Z
UID:6477-1543737600-1543770000@www.slaf.lc
SUMMARY:Southern Flying Fish Fundraising Bingo
DESCRIPTION:
URL:https://www.slaf.lc/event/southern-flying-fish-fundraising-bingo/
END:VEVENT
BEGIN:VEVENT
DTSTART;TZID=UTC:20181124T200000
DTEND;TZID=UTC:20181124T200000
DTSTAMP:20260423T142638
CREATED:20181120T042521Z
LAST-MODIFIED:20181120T042521Z
UID:6479-1543089600-1543089600@www.slaf.lc
SUMMARY:Shark a Boom. Sharks Fundraising Party at Gold and Country Club
DESCRIPTION:
URL:https://www.slaf.lc/event/shark-a-boom-sharks-fundraising-party-at-gold-and-country-club/
END:VEVENT
BEGIN:VEVENT
DTSTART;TZID=UTC:20181123T080000
DTEND;TZID=UTC:20181125T170000
DTSTAMP:20260423T142638
CREATED:20181120T034412Z
LAST-MODIFIED:20181120T034642Z
UID:6468-1542960000-1543165200@www.slaf.lc
SUMMARY:Fina Swimming Officials Clinic Intermediate Level November 23rd to 25th
DESCRIPTION:
URL:https://www.slaf.lc/event/fina-swimming-officials-clinic-intermediate-level-november-23rd-to-25th/
END:VEVENT
END:VCALENDAR